BEGIN:VCALENDAR
VERSION:2.0
PRODID:-//Dental Academy of Continuing Education - ECPv6.15.20//NONSGML v1.0//EN
CALSCALE:GREGORIAN
METHOD:PUBLISH
X-WR-CALNAME:Dental Academy of Continuing Education
X-ORIGINAL-URL:https://dentalacademyofce.com
X-WR-CALDESC:Events for Dental Academy of Continuing Education
REFRESH-INTERVAL;VALUE=DURATION:PT1H
X-Robots-Tag:noindex
X-PUBLISHED-TTL:PT1H
BEGIN:VTIMEZONE
TZID:America/Chicago
BEGIN:DAYLIGHT
TZOFFSETFROM:-0600
TZOFFSETTO:-0500
TZNAME:CDT
DTSTART:20250309T080000
END:DAYLIGHT
BEGIN:STANDARD
TZOFFSETFROM:-0500
TZOFFSETTO:-0600
TZNAME:CST
DTSTART:20251102T070000
END:STANDARD
BEGIN:DAYLIGHT
TZOFFSETFROM:-0600
TZOFFSETTO:-0500
TZNAME:CDT
DTSTART:20260308T080000
END:DAYLIGHT
BEGIN:STANDARD
TZOFFSETFROM:-0500
TZOFFSETTO:-0600
TZNAME:CST
DTSTART:20261101T070000
END:STANDARD
BEGIN:DAYLIGHT
TZOFFSETFROM:-0600
TZOFFSETTO:-0500
TZNAME:CDT
DTSTART:20270314T080000
END:DAYLIGHT
BEGIN:STANDARD
TZOFFSETFROM:-0500
TZOFFSETTO:-0600
TZNAME:CST
DTSTART:20271107T070000
END:STANDARD
END:VTIMEZONE
BEGIN:VEVENT
DTSTART;TZID=America/Chicago:20260217T140000
DTEND;TZID=America/Chicago:20260217T150000
DTSTAMP:20260422T154642
CREATED:20260120T173159Z
LAST-MODIFIED:20260120T173202Z
UID:74020-1771336800-1771340400@dentalacademyofce.com
SUMMARY:Delivering an Excellent Dental Care Patient Experience
DESCRIPTION:LIVE WEBINAR | FEBRUARY 17\, 2026| This webinar explores how to create consistent\, positive patient experiences in the dental practice—from first impression through case completion—while addressing negative experiences and applying motivational interviewing to improve patient retention and practice growth. (1 credit)
URL:https://dentalacademyofce.com/event/delivering-an-excellent-dental-care-patient-experience/
END:VEVENT
BEGIN:VEVENT
DTSTART;TZID=America/Chicago:20260225T190000
DTEND;TZID=America/Chicago:20260225T200000
DTSTAMP:20260422T154642
CREATED:20260113T173950Z
LAST-MODIFIED:20260113T174019Z
UID:73948-1772046000-1772049600@dentalacademyofce.com
SUMMARY:From Biofilm to Balance: Innovative Strategies for Optimal Gum Health 
DESCRIPTION:FREE WEBINAR | February 25\, 2026 | This webinar explores a modern\, biofilm-centered approach to periodontal care\, highlighting how guided biofilm therapy\, digital technologies\, and evidence-based adjuncts improve diagnostics\, patient engagement\, and long-term periodontal health. (1 credit)
URL:https://dentalacademyofce.com/event/from-biofilm-to-balance-innovative-strategies-for-optimal-gum-health/
END:VEVENT
END:VCALENDAR