BEGIN:VCALENDAR
VERSION:2.0
PRODID:-//Dental Academy of Continuing Education - ECPv6.15.20//NONSGML v1.0//EN
CALSCALE:GREGORIAN
METHOD:PUBLISH
X-WR-CALNAME:Dental Academy of Continuing Education
X-ORIGINAL-URL:https://dentalacademyofce.com
X-WR-CALDESC:Events for Dental Academy of Continuing Education
REFRESH-INTERVAL;VALUE=DURATION:PT1H
X-Robots-Tag:noindex
X-PUBLISHED-TTL:PT1H
BEGIN:VTIMEZONE
TZID:America/Chicago
BEGIN:DAYLIGHT
TZOFFSETFROM:-0600
TZOFFSETTO:-0500
TZNAME:CDT
DTSTART:20240310T080000
END:DAYLIGHT
BEGIN:STANDARD
TZOFFSETFROM:-0500
TZOFFSETTO:-0600
TZNAME:CST
DTSTART:20241103T070000
END:STANDARD
BEGIN:DAYLIGHT
TZOFFSETFROM:-0600
TZOFFSETTO:-0500
TZNAME:CDT
DTSTART:20250309T080000
END:DAYLIGHT
BEGIN:STANDARD
TZOFFSETFROM:-0500
TZOFFSETTO:-0600
TZNAME:CST
DTSTART:20251102T070000
END:STANDARD
BEGIN:DAYLIGHT
TZOFFSETFROM:-0600
TZOFFSETTO:-0500
TZNAME:CDT
DTSTART:20260308T080000
END:DAYLIGHT
BEGIN:STANDARD
TZOFFSETFROM:-0500
TZOFFSETTO:-0600
TZNAME:CST
DTSTART:20261101T070000
END:STANDARD
END:VTIMEZONE
BEGIN:VEVENT
DTSTART;TZID=America/Chicago:20251104T190000
DTEND;TZID=America/Chicago:20251104T200000
DTSTAMP:20260422T202312
CREATED:20251001T183243Z
LAST-MODIFIED:20251001T183247Z
UID:72034-1762282800-1762286400@dentalacademyofce.com
SUMMARY:Thriving Not Surviving: Leading a Progressive Inflammation Management Program
DESCRIPTION:This one-hour webinar is designed for both dental hygienists and dentists seeking to enhance their leadership roles in implementing Guided Biofilm Therapy (GBT) and developing a thriving inflammation program within their practice. Participants will gain actionable insights and strategies to confidently lead their teams\, optimize patient outcomes\, and transition from merely surviving to truly thriving in their approach to oral healthcare.
URL:https://dentalacademyofce.com/event/thriving-not-surviving-leading-a-progressive-inflammation-management-program/
END:VEVENT
BEGIN:VEVENT
DTSTART;TZID=America/Chicago:20251112T190000
DTEND;TZID=America/Chicago:20251112T200000
DTSTAMP:20260422T202312
CREATED:20251008T133634Z
LAST-MODIFIED:20251008T133636Z
UID:72126-1762974000-1762977600@dentalacademyofce.com
SUMMARY:The Future of Precision Ultrasonic Procedures is Here
DESCRIPTION:LIVE WEBINAR | NOVEMBER 12\, 2025 | Discover why precision ultrasonic procedures are setting a new standard in dental hygiene and what makes this approach different from what most dental hygienists are practicing today. (1 CE Credit)
URL:https://dentalacademyofce.com/event/the-future-of-precision-ultrasonic-procedures-is-here/
END:VEVENT
BEGIN:VEVENT
DTSTART;TZID=America/Chicago:20251118T190000
DTEND;TZID=America/Chicago:20251118T200000
DTSTAMP:20260422T202312
CREATED:20251014T171012Z
LAST-MODIFIED:20251014T171019Z
UID:72396-1763492400-1763496000@dentalacademyofce.com
SUMMARY:The Elite Sellers Club: How Smart Owners Are Achieving Premium Valuations
DESCRIPTION:LIVE WEBINAR | March 18\, 2025 | This webinar will equip you with the knowledge and tools to confidently identify the right DSO partner for your practice\, your team\, and your future to achieve a smooth and successful transition. (1 credit)
URL:https://dentalacademyofce.com/event/the-elite-sellers-club-how-smart-owners-are-achieving-premium-valuations/
END:VEVENT
BEGIN:VEVENT
DTSTART;TZID=America/Chicago:20251120T190000
DTEND;TZID=America/Chicago:20251120T200000
DTSTAMP:20260422T202312
CREATED:20251001T182913Z
LAST-MODIFIED:20251001T182921Z
UID:72032-1763665200-1763668800@dentalacademyofce.com
SUMMARY:Adhesive Hero: Zeroflox – Tips and Tricks for Reliable Adhesive Workflow
DESCRIPTION:Successful restorative outcomes depend on achieving a durable and predictable adhesive interface. This session will explore the science of adhesion\, focusing on key clinical factors such as substrate preparation\, solvent evaporation\, adhesive film thickness\, and light-curing strategies. Practical insights will be shared to help clinicians overcome common pitfalls and achieve consistency in adhesive delivery. Additionally\, modern applicator innovations\, including Medmix’s Zeroflox tip\, will be introduced as tools that can support reliable and reproducible bonding results in daily restorative practice.
URL:https://dentalacademyofce.com/event/adhesive-hero-zeroflox-tips-and-tricks-for-reliable-adhesive-workflow/
END:VEVENT
END:VCALENDAR