BEGIN:VCALENDAR
VERSION:2.0
PRODID:-//Dental Academy of Continuing Education - ECPv6.15.20//NONSGML v1.0//EN
CALSCALE:GREGORIAN
METHOD:PUBLISH
X-ORIGINAL-URL:https://dentalacademyofce.com
X-WR-CALDESC:Events for Dental Academy of Continuing Education
REFRESH-INTERVAL;VALUE=DURATION:PT1H
X-Robots-Tag:noindex
X-PUBLISHED-TTL:PT1H
BEGIN:VTIMEZONE
TZID:America/Chicago
BEGIN:DAYLIGHT
TZOFFSETFROM:-0600
TZOFFSETTO:-0500
TZNAME:CDT
DTSTART:20240310T080000
END:DAYLIGHT
BEGIN:STANDARD
TZOFFSETFROM:-0500
TZOFFSETTO:-0600
TZNAME:CST
DTSTART:20241103T070000
END:STANDARD
BEGIN:DAYLIGHT
TZOFFSETFROM:-0600
TZOFFSETTO:-0500
TZNAME:CDT
DTSTART:20250309T080000
END:DAYLIGHT
BEGIN:STANDARD
TZOFFSETFROM:-0500
TZOFFSETTO:-0600
TZNAME:CST
DTSTART:20251102T070000
END:STANDARD
BEGIN:DAYLIGHT
TZOFFSETFROM:-0600
TZOFFSETTO:-0500
TZNAME:CDT
DTSTART:20260308T080000
END:DAYLIGHT
BEGIN:STANDARD
TZOFFSETFROM:-0500
TZOFFSETTO:-0600
TZNAME:CST
DTSTART:20261101T070000
END:STANDARD
END:VTIMEZONE
BEGIN:VEVENT
DTSTART;TZID=America/Chicago:20250603T190000
DTEND;TZID=America/Chicago:20250603T200000
DTSTAMP:20260422T221902
CREATED:20250514T135921Z
LAST-MODIFIED:20250514T135923Z
UID:69249-1748977200-1748980800@dentalacademyofce.com
SUMMARY:Live Webinar: In Between the Threads: Tools and Technology for Implant Maintenance
DESCRIPTION:The number of implants placed every year is steadily increasing. It is important for dental hygienist to have a defined protocol for implant assessment and early detection of peri-implant disease. This course will review biocompatible instrumentation and the latest non-invasive technology to debride the implant surface safely and effectively. The program will also provide many tools for early detection\, diagnosis\, and treatment of possible implant complications.
URL:https://dentalacademyofce.com/event/live-webinar-in-between-the-threads-tools-and-technology-for-implant-maintenance/
END:VEVENT
BEGIN:VEVENT
DTSTART;TZID=America/Chicago:20250605T190000
DTEND;TZID=America/Chicago:20250605T200000
DTSTAMP:20260422T221902
CREATED:20250505T153316Z
LAST-MODIFIED:20250505T153318Z
UID:68994-1749150000-1749153600@dentalacademyofce.com
SUMMARY:Live Webinar: Advanced topics in Zirconia
DESCRIPTION:This course will dive into some of the advanced topics in dental zirconia that will be relevant for clinicians and laboratories who use this material for restorative dentistry. The different generations of zirconia will be described along with the irrelevant clinical properties. The fabrication technique of zirconia pucks will be described to explain the differences between brands of zirconia.  The sintering process will be explained to explain the importance of proper protocol by a dental laboratory. Finally\, the evidence for zirconia bonding will be be provided.
URL:https://dentalacademyofce.com/event/live-webinar-advanced-topics-in-zirconia/
END:VEVENT
BEGIN:VEVENT
DTSTART;TZID=America/Chicago:20250624T190000
DTEND;TZID=America/Chicago:20250624T200000
DTSTAMP:20260422T221902
CREATED:20250505T142750Z
LAST-MODIFIED:20250505T142823Z
UID:68936-1750791600-1750795200@dentalacademyofce.com
SUMMARY:Live Webinar: Shielding Your Teeth: A Comprehensive Guide to Dental Erosion
DESCRIPTION:Dental erosion is the gradual loss of enamel and dentin from acid exposure\, unrelated to bacteria. It’s increasingly common due to modern diets and habits. Causes include intrinsic factors like acid reflux and eating disorders\, and extrinsic ones such as acidic foods\, drinks\, and vaping. Erosion can lead to sensitivity\, aesthetic issues\, and functional problems. Prevention involves reducing acid exposure\, supporting saliva’s protective role\, and using remineralizing agents. \n\n\n\nLearning Objectives \n\n\n\n\nRecognize the multifactorial causes of dental erosion\, including dietary acids\, obstructive sleep apnea (OSA)\, gastroesophageal reflux disease (GERD)\, eating disorders\, illegal drug use\, and vaping.\n\n\n\nEvaluate the severity of dental erosion using clinical indices such as the Basic Erosive Wear Examination (BEWE).\n\n\n\nImplement preventive strategies tailored to the patient’s risk factors to reduce further enamel and dentin loss.\n\n\n\nApply evidence-based therapeutic interventions\, including pH-neutralizing agents\, remineralization therapies\, and lifestyle modifications\, to manage and mitigate erosion progression.
URL:https://dentalacademyofce.com/event/shielding-your-teeth-a-comprehensive-guide-to-dental-erosion/
END:VEVENT
END:VCALENDAR