BEGIN:VCALENDAR
VERSION:2.0
PRODID:-//Dental Academy of Continuing Education - ECPv6.15.20//NONSGML v1.0//EN
CALSCALE:GREGORIAN
METHOD:PUBLISH
X-WR-CALNAME:Dental Academy of Continuing Education
X-ORIGINAL-URL:https://dentalacademyofce.com
X-WR-CALDESC:Events for Dental Academy of Continuing Education
REFRESH-INTERVAL;VALUE=DURATION:PT1H
X-Robots-Tag:noindex
X-PUBLISHED-TTL:PT1H
BEGIN:VTIMEZONE
TZID:America/Chicago
BEGIN:DAYLIGHT
TZOFFSETFROM:-0600
TZOFFSETTO:-0500
TZNAME:CDT
DTSTART:20240310T080000
END:DAYLIGHT
BEGIN:STANDARD
TZOFFSETFROM:-0500
TZOFFSETTO:-0600
TZNAME:CST
DTSTART:20241103T070000
END:STANDARD
BEGIN:DAYLIGHT
TZOFFSETFROM:-0600
TZOFFSETTO:-0500
TZNAME:CDT
DTSTART:20250309T080000
END:DAYLIGHT
BEGIN:STANDARD
TZOFFSETFROM:-0500
TZOFFSETTO:-0600
TZNAME:CST
DTSTART:20251102T070000
END:STANDARD
BEGIN:DAYLIGHT
TZOFFSETFROM:-0600
TZOFFSETTO:-0500
TZNAME:CDT
DTSTART:20260308T080000
END:DAYLIGHT
BEGIN:STANDARD
TZOFFSETFROM:-0500
TZOFFSETTO:-0600
TZNAME:CST
DTSTART:20261101T070000
END:STANDARD
END:VTIMEZONE
BEGIN:VEVENT
DTSTART;TZID=America/Chicago:20250318T190000
DTEND;TZID=America/Chicago:20250318T200000
DTSTAMP:20260422T184541
CREATED:20250312T174051Z
LAST-MODIFIED:20250312T174512Z
UID:68202-1742324400-1742328000@dentalacademyofce.com
SUMMARY:The Practice Owner’s Guide To Choosing The Right DSO
DESCRIPTION:LIVE WEBINAR | March 18\, 2025 | This webinar will equip you with the knowledge and tools to confidently identify the right DSO partner for your practice\, your team\, and your future to achieve a smooth and successful transition. (1 credit)
URL:https://dentalacademyofce.com/event/the-practice-owners-guide-to-choosing-the-right-dso/
END:VEVENT
BEGIN:VEVENT
DTSTART;TZID=America/Chicago:20250325T190000
DTEND;TZID=America/Chicago:20250325T200000
DTSTAMP:20260422T184541
CREATED:20250312T174207Z
LAST-MODIFIED:20250312T174209Z
UID:68204-1742929200-1742932800@dentalacademyofce.com
SUMMARY:Implant Management: Who’s failing? Implants or us?
DESCRIPTION:LIVE WEBINAR | March 25\, 2025 | This lecture is designed for clinicians involved in implant placement and the management of peri-implant diseases\, equipping them with the knowledge and skills necessary to optimize implant outcomes and prevent complications. (1 credit)
URL:https://dentalacademyofce.com/event/implant-management-whos-failing-implants-or-us/
END:VEVENT
BEGIN:VEVENT
DTSTART;TZID=America/Chicago:20250328T090000
DTEND;TZID=America/Chicago:20250328T170000
DTSTAMP:20260422T184541
CREATED:20250312T174340Z
LAST-MODIFIED:20250312T174402Z
UID:68206-1743152400-1743181200@dentalacademyofce.com
SUMMARY:Dental Economics: Clinical Mastermind
DESCRIPTION:FREE CE VIRTUAL EVENT | Dental Economics and the Dental Academy of CE invite you to join our Clinical Mastermind CE event on March 28\, 2025\, featuring top clinicians in dentistry.
URL:https://dentalacademyofce.com/event/dental-economics-clinical-mastermind/
END:VEVENT
END:VCALENDAR