BEGIN:VCALENDAR
VERSION:2.0
PRODID:-//Dental Academy of Continuing Education - ECPv6.15.20//NONSGML v1.0//EN
CALSCALE:GREGORIAN
METHOD:PUBLISH
X-WR-CALNAME:Dental Academy of Continuing Education
X-ORIGINAL-URL:https://dentalacademyofce.com
X-WR-CALDESC:Events for Dental Academy of Continuing Education
REFRESH-INTERVAL;VALUE=DURATION:PT1H
X-Robots-Tag:noindex
X-PUBLISHED-TTL:PT1H
BEGIN:VTIMEZONE
TZID:America/Chicago
BEGIN:DAYLIGHT
TZOFFSETFROM:-0600
TZOFFSETTO:-0500
TZNAME:CDT
DTSTART:20250309T080000
END:DAYLIGHT
BEGIN:STANDARD
TZOFFSETFROM:-0500
TZOFFSETTO:-0600
TZNAME:CST
DTSTART:20251102T070000
END:STANDARD
BEGIN:DAYLIGHT
TZOFFSETFROM:-0600
TZOFFSETTO:-0500
TZNAME:CDT
DTSTART:20260308T080000
END:DAYLIGHT
BEGIN:STANDARD
TZOFFSETFROM:-0500
TZOFFSETTO:-0600
TZNAME:CST
DTSTART:20261101T070000
END:STANDARD
BEGIN:DAYLIGHT
TZOFFSETFROM:-0600
TZOFFSETTO:-0500
TZNAME:CDT
DTSTART:20270314T080000
END:DAYLIGHT
BEGIN:STANDARD
TZOFFSETFROM:-0500
TZOFFSETTO:-0600
TZNAME:CST
DTSTART:20271107T070000
END:STANDARD
END:VTIMEZONE
BEGIN:VEVENT
DTSTART;TZID=America/Chicago:20260323T190000
DTEND;TZID=America/Chicago:20260323T200000
DTSTAMP:20260422T173248
CREATED:20260209T165146Z
LAST-MODIFIED:20260209T165149Z
UID:74585-1774292400-1774296000@dentalacademyofce.com
SUMMARY:Modern Approaches to Dental Pain Control and Analgesic Use
DESCRIPTION:FREE WEBINAR | March 23\, 2026 | This webinar reviews evidence-based strategies for managing acute dental pain\, emphasizing appropriate analgesic selection\, clinical decision-making\, risk mitigation\, and the recognition of opioid misuse. (1 credit)
URL:https://dentalacademyofce.com/event/modern-approaches-to-dental-pain-control-and-analgesic-use/
END:VEVENT
BEGIN:VEVENT
DTSTART;TZID=America/Chicago:20260414T130000
DTEND;TZID=America/Chicago:20260414T140000
DTSTAMP:20260422T173248
CREATED:20260224T173034Z
LAST-MODIFIED:20260224T173037Z
UID:74848-1776171600-1776175200@dentalacademyofce.com
SUMMARY:Leading with Kindness: Strategies for Sustainable Success in Dentistry
DESCRIPTION:FREE WEBINAR | April 14\, 2026 | This CE session reframes kindness as a strategic leadership skill in dental practice\, equipping participants with evidence-based tools to reduce burnout\, strengthen team performance\, and build psychologically safe\, high-trust cultures where excellence is sustainable. (1 credit)
URL:https://dentalacademyofce.com/event/leading-with-kindness-strategies-for-sustainable-success-in-dentistry/
END:VEVENT
BEGIN:VEVENT
DTSTART;TZID=America/Chicago:20260421T190000
DTEND;TZID=America/Chicago:20260421T200000
DTSTAMP:20260422T173248
CREATED:20260417T174130Z
LAST-MODIFIED:20260417T174132Z
UID:75719-1776798000-1776801600@dentalacademyofce.com
SUMMARY:The Dirty Truth About Clean Gloves: Reducing Glove-Related Contamination
DESCRIPTION:FREE WEBINAR | April 21\, 2026 | This one-hour continuing education course explores how examination glove use can contribute to cross-contamination in dental and clinical settings and provides practical\, evidence-based strategies to reduce contamination and strengthen infection control. (1 credit)
URL:https://dentalacademyofce.com/event/the-dirty-truth-about-clean-gloves-reducing-glove-related-contamination/
ATTACH;FMTTYPE=image/jpeg:https://dentalacademyofce.com/wp-content/uploads/2026/03/DACE-0426-Pro2Solutions-Cranberry.jpg
END:VEVENT
BEGIN:VEVENT
DTSTART;TZID=America/Chicago:20260428T190000
DTEND;TZID=America/Chicago:20260428T200000
DTSTAMP:20260422T173248
CREATED:20260311T171720Z
LAST-MODIFIED:20260417T174025Z
UID:74988-1777402800-1777406400@dentalacademyofce.com
SUMMARY:The Modern Oral Care Products Science: Confidently Recommend the Right Products
DESCRIPTION:FREE WEBINAR | APRIL 28\, 2026 | This webinar explores the science behind modern oral care products\, helping dental professionals understand how ingredients and formulations interact with oral biology so they can confidently recommend the most appropriate products for each patient. (1 credit)
URL:https://dentalacademyofce.com/event/the-modern-oral-care-products-science-confidently-recommend-the-right-products/
ATTACH;FMTTYPE=image/jpeg:https://dentalacademyofce.com/wp-content/uploads/2026/03/DACE-0426-SuperMouth.jpg
END:VEVENT
BEGIN:VEVENT
DTSTART;TZID=America/Chicago:20260512T190000
DTEND;TZID=America/Chicago:20260512T200000
DTSTAMP:20260422T173248
CREATED:20260417T173801Z
LAST-MODIFIED:20260417T173803Z
UID:75715-1778612400-1778616000@dentalacademyofce.com
SUMMARY:Sleep Apnea: Wake Up to the Problem
DESCRIPTION:FREE WEBINAR | May 12\, 2026 | In this webinar\, we will explore how dental professionals can identify and treat sleep apnea\, understand its health risks\, and implement practical strategies to improve patient outcomes while growing their practice. (1 credit)
URL:https://dentalacademyofce.com/event/sleep-apnea-wake-up-to-the-problem/
ATTACH;FMTTYPE=image/jpeg:https://dentalacademyofce.com/wp-content/uploads/2026/04/DACE-051226-Haleon-Webinar-Thumbnail-1.jpg
END:VEVENT
BEGIN:VEVENT
DTSTART;TZID=America/Chicago:20260527T190000
DTEND;TZID=America/Chicago:20260527T200000
DTSTAMP:20260422T173248
CREATED:20260417T173942Z
LAST-MODIFIED:20260417T173944Z
UID:75717-1779908400-1779912000@dentalacademyofce.com
SUMMARY:Oral Cancer Screening: It’s More Than Grasping the Tongue
DESCRIPTION:FREE WEBINAR | May 27\, 2026 | In this webinar\, dental professionals will learn how to perform a comprehensive oral cancer screening—including extraoral and intraoral evaluation techniques—while recognizing key signs and symptoms to improve early detection and elevate the standard of care. (1 credit)
URL:https://dentalacademyofce.com/event/oral-cancer-screening-its-more-than-grasping-the-tongue/
ATTACH;FMTTYPE=image/jpeg:https://dentalacademyofce.com/wp-content/uploads/2026/04/DACE-052726-Haleon-Webinar-Thumbnail.jpg
END:VEVENT
END:VCALENDAR