BEGIN:VCALENDAR
VERSION:2.0
PRODID:-//Dental Academy of Continuing Education - ECPv6.15.20//NONSGML v1.0//EN
CALSCALE:GREGORIAN
METHOD:PUBLISH
X-ORIGINAL-URL:https://dentalacademyofce.com
X-WR-CALDESC:Events for Dental Academy of Continuing Education
REFRESH-INTERVAL;VALUE=DURATION:PT1H
X-Robots-Tag:noindex
X-PUBLISHED-TTL:PT1H
BEGIN:VTIMEZONE
TZID:America/Chicago
BEGIN:DAYLIGHT
TZOFFSETFROM:-0600
TZOFFSETTO:-0500
TZNAME:CDT
DTSTART:20250309T080000
END:DAYLIGHT
BEGIN:STANDARD
TZOFFSETFROM:-0500
TZOFFSETTO:-0600
TZNAME:CST
DTSTART:20251102T070000
END:STANDARD
BEGIN:DAYLIGHT
TZOFFSETFROM:-0600
TZOFFSETTO:-0500
TZNAME:CDT
DTSTART:20260308T080000
END:DAYLIGHT
BEGIN:STANDARD
TZOFFSETFROM:-0500
TZOFFSETTO:-0600
TZNAME:CST
DTSTART:20261101T070000
END:STANDARD
BEGIN:DAYLIGHT
TZOFFSETFROM:-0600
TZOFFSETTO:-0500
TZNAME:CDT
DTSTART:20270314T080000
END:DAYLIGHT
BEGIN:STANDARD
TZOFFSETFROM:-0500
TZOFFSETTO:-0600
TZNAME:CST
DTSTART:20271107T070000
END:STANDARD
END:VTIMEZONE
BEGIN:VEVENT
DTSTART;TZID=America/Chicago:20260512T190000
DTEND;TZID=America/Chicago:20260512T200000
DTSTAMP:20260422T171243
CREATED:20260417T173801Z
LAST-MODIFIED:20260417T173803Z
UID:75715-1778612400-1778616000@dentalacademyofce.com
SUMMARY:Sleep Apnea: Wake Up to the Problem
DESCRIPTION:FREE WEBINAR | May 12\, 2026 | In this webinar\, we will explore how dental professionals can identify and treat sleep apnea\, understand its health risks\, and implement practical strategies to improve patient outcomes while growing their practice. (1 credit)
URL:https://dentalacademyofce.com/event/sleep-apnea-wake-up-to-the-problem/
ATTACH;FMTTYPE=image/jpeg:https://dentalacademyofce.com/wp-content/uploads/2026/04/DACE-051226-Haleon-Webinar-Thumbnail-1.jpg
END:VEVENT
BEGIN:VEVENT
DTSTART;TZID=America/Chicago:20260527T190000
DTEND;TZID=America/Chicago:20260527T200000
DTSTAMP:20260422T171243
CREATED:20260417T173942Z
LAST-MODIFIED:20260417T173944Z
UID:75717-1779908400-1779912000@dentalacademyofce.com
SUMMARY:Oral Cancer Screening: It’s More Than Grasping the Tongue
DESCRIPTION:FREE WEBINAR | May 27\, 2026 | In this webinar\, dental professionals will learn how to perform a comprehensive oral cancer screening—including extraoral and intraoral evaluation techniques—while recognizing key signs and symptoms to improve early detection and elevate the standard of care. (1 credit)
URL:https://dentalacademyofce.com/event/oral-cancer-screening-its-more-than-grasping-the-tongue/
ATTACH;FMTTYPE=image/jpeg:https://dentalacademyofce.com/wp-content/uploads/2026/04/DACE-052726-Haleon-Webinar-Thumbnail.jpg
END:VEVENT
END:VCALENDAR