BEGIN:VCALENDAR
VERSION:2.0
PRODID:-//Dental Academy of Continuing Education - ECPv6.15.20//NONSGML v1.0//EN
CALSCALE:GREGORIAN
METHOD:PUBLISH
X-ORIGINAL-URL:https://dentalacademyofce.com
X-WR-CALDESC:Events for Dental Academy of Continuing Education
REFRESH-INTERVAL;VALUE=DURATION:PT1H
X-Robots-Tag:noindex
X-PUBLISHED-TTL:PT1H
BEGIN:VTIMEZONE
TZID:America/Chicago
BEGIN:DAYLIGHT
TZOFFSETFROM:-0600
TZOFFSETTO:-0500
TZNAME:CDT
DTSTART:20240310T080000
END:DAYLIGHT
BEGIN:STANDARD
TZOFFSETFROM:-0500
TZOFFSETTO:-0600
TZNAME:CST
DTSTART:20241103T070000
END:STANDARD
BEGIN:DAYLIGHT
TZOFFSETFROM:-0600
TZOFFSETTO:-0500
TZNAME:CDT
DTSTART:20250309T080000
END:DAYLIGHT
BEGIN:STANDARD
TZOFFSETFROM:-0500
TZOFFSETTO:-0600
TZNAME:CST
DTSTART:20251102T070000
END:STANDARD
BEGIN:DAYLIGHT
TZOFFSETFROM:-0600
TZOFFSETTO:-0500
TZNAME:CDT
DTSTART:20260308T080000
END:DAYLIGHT
BEGIN:STANDARD
TZOFFSETFROM:-0500
TZOFFSETTO:-0600
TZNAME:CST
DTSTART:20261101T070000
END:STANDARD
END:VTIMEZONE
BEGIN:VEVENT
DTSTART;TZID=America/Chicago:20251216T190000
DTEND;TZID=America/Chicago:20251216T200000
DTSTAMP:20260422T221914
CREATED:20250505T142523Z
LAST-MODIFIED:20250505T142525Z
UID:68934-1765911600-1765915200@dentalacademyofce.com
SUMMARY:Live Webinar: The Yellow Brick Road to Healthy Gums: A Patient-Centered Health Protocol
DESCRIPTION:Join us as we journey to the magical world of optimal gum health\, where every step leads to brighter smiles and healthier lives! This course is designed for dental professionals who are ready to follow the yellow brick road toward advanced periodontal care\, offering a patient-centered approach to achieving “Emerald City Gums.” \n\n\n\nThroughout the program\, we’ll explore the pathophysiology of gum disease\, its risk factors\, and the innovative treatments that can bring your patients back to a place of vibrant health. Much like Dorothy’s quest to find her way home\, we will teach you how to tailor personalized care plans to meet each patient’s unique needs\, including lifestyle modifications\, nutritional advice\, and the latest periodontal advancements. \n\n\n\nEffective communication\, as powerful as the ruby slippers\, will be at your disposal to motivate and educate patients\, ensuring they remain on the path to long-term oral wellness. \n\n\n\nThrough interactive workshops and practical demonstrations\, you’ll gain the skills to create robust periodontal health protocols that will leave your patients feeling like they have a heart\, brain\, and courage to take on their oral health challenges. \n\n\n\nCome along for the adventure and learn how to guide your patients to the land of healthy gums and a lifetime of smiles! \n\n\n\nCourse Objectives: \n\n\n\n\nDevelop a thorough understanding of the pathophysiology of gum disease and the various risk factors associated with its development and progression.\n\n\n\nLearn to create and implement personalized care plans that integrate lifestyle modifications\, nutritional guidance\, and cutting-edge periodontal therapies tailored to individual patient needs.\n\n\n\nMaster effective communication techniques to educate and motivate patients\, ensuring adherence to treatment protocols and promoting long-term oral health.
URL:https://dentalacademyofce.com/event/live-webinar-the-yellow-brick-road-to-healthy-gums-a-patient-centered-health-protocol/
END:VEVENT
END:VCALENDAR