BEGIN:VCALENDAR
VERSION:2.0
PRODID:-//Dental Academy of Continuing Education - ECPv6.15.20//NONSGML v1.0//EN
CALSCALE:GREGORIAN
METHOD:PUBLISH
X-WR-CALNAME:Dental Academy of Continuing Education
X-ORIGINAL-URL:https://dentalacademyofce.com
X-WR-CALDESC:Events for Dental Academy of Continuing Education
REFRESH-INTERVAL;VALUE=DURATION:PT1H
X-Robots-Tag:noindex
X-PUBLISHED-TTL:PT1H
BEGIN:VTIMEZONE
TZID:America/Chicago
BEGIN:DAYLIGHT
TZOFFSETFROM:-0600
TZOFFSETTO:-0500
TZNAME:CDT
DTSTART:20240310T080000
END:DAYLIGHT
BEGIN:STANDARD
TZOFFSETFROM:-0500
TZOFFSETTO:-0600
TZNAME:CST
DTSTART:20241103T070000
END:STANDARD
BEGIN:DAYLIGHT
TZOFFSETFROM:-0600
TZOFFSETTO:-0500
TZNAME:CDT
DTSTART:20250309T080000
END:DAYLIGHT
BEGIN:STANDARD
TZOFFSETFROM:-0500
TZOFFSETTO:-0600
TZNAME:CST
DTSTART:20251102T070000
END:STANDARD
BEGIN:DAYLIGHT
TZOFFSETFROM:-0600
TZOFFSETTO:-0500
TZNAME:CDT
DTSTART:20260308T080000
END:DAYLIGHT
BEGIN:STANDARD
TZOFFSETFROM:-0500
TZOFFSETTO:-0600
TZNAME:CST
DTSTART:20261101T070000
END:STANDARD
END:VTIMEZONE
BEGIN:VEVENT
DTSTART;TZID=America/Chicago:20251209T190000
DTEND;TZID=America/Chicago:20251209T200000
DTSTAMP:20260422T202313
CREATED:20250505T141742Z
LAST-MODIFIED:20251023T151336Z
UID:68922-1765306800-1765310400@dentalacademyofce.com
SUMMARY:Live Webinar: Medical Protocols for Periodontal Therapy
DESCRIPTION:This is an exciting time to be a dental health professional as dentistry and dental hygiene are both growing as medical specialties. As our understanding of the multiple links between the mouth and the body has increased\, our roles have expanded to include awareness of and focus on the whole health of our patients. \n\n\n\nTraditionally\, dental health care practitioners have not approached dental disease in the same way that medical doctors approach systemic diseases. There is much to be gained by adopting certain medical strategies\, such as performing risk assessment\, seeking the root cause\, employing laboratory testing\, and utilizing wound care protocols\, into our routine dental care. \n\n\n\nWe must try to unravel the complex interactions between host susceptibility\, immune response\, genetic associations\, behavioral components\, and disease control. \n\n\n\nAs knowledge of the oral-systemic connections has become widely understood and accepted\, the next step is to integrate that knowledge into practical clinical protocols. It’s time to elevate our identities as healthcare practitioners in this new age of integrated medicine and dentistry. \n\n\n\nCourse Objectives: \n\n\n\n\nDiscover four tenants of medical management of periodontal disease: risk assessment\, root cause\, laboratory testing\, and wound care.\n\n\n\nIlluminate the significance and challenges of oral biofilm.\n\n\n\nExplore leading-edge practices to integrate medical protocols into dental routines efficiently and effectively.
URL:https://dentalacademyofce.com/event/live-webinar-medical-protocols-for-periodontal-therapy/
LOCATION:Live Webinar
END:VEVENT
END:VCALENDAR