BEGIN:VCALENDAR
VERSION:2.0
PRODID:-//Dental Academy of Continuing Education - ECPv6.15.20//NONSGML v1.0//EN
CALSCALE:GREGORIAN
METHOD:PUBLISH
X-ORIGINAL-URL:https://dentalacademyofce.com
X-WR-CALDESC:Events for Dental Academy of Continuing Education
REFRESH-INTERVAL;VALUE=DURATION:PT1H
X-Robots-Tag:noindex
X-PUBLISHED-TTL:PT1H
BEGIN:VTIMEZONE
TZID:America/Chicago
BEGIN:DAYLIGHT
TZOFFSETFROM:-0600
TZOFFSETTO:-0500
TZNAME:CDT
DTSTART:20240310T080000
END:DAYLIGHT
BEGIN:STANDARD
TZOFFSETFROM:-0500
TZOFFSETTO:-0600
TZNAME:CST
DTSTART:20241103T070000
END:STANDARD
BEGIN:DAYLIGHT
TZOFFSETFROM:-0600
TZOFFSETTO:-0500
TZNAME:CDT
DTSTART:20250309T080000
END:DAYLIGHT
BEGIN:STANDARD
TZOFFSETFROM:-0500
TZOFFSETTO:-0600
TZNAME:CST
DTSTART:20251102T070000
END:STANDARD
BEGIN:DAYLIGHT
TZOFFSETFROM:-0600
TZOFFSETTO:-0500
TZNAME:CDT
DTSTART:20260308T080000
END:DAYLIGHT
BEGIN:STANDARD
TZOFFSETFROM:-0500
TZOFFSETTO:-0600
TZNAME:CST
DTSTART:20261101T070000
END:STANDARD
END:VTIMEZONE
BEGIN:VEVENT
DTSTART;TZID=America/Chicago:20251120T190000
DTEND;TZID=America/Chicago:20251120T200000
DTSTAMP:20260422T221514
CREATED:20251001T182913Z
LAST-MODIFIED:20251001T182921Z
UID:72032-1763665200-1763668800@dentalacademyofce.com
SUMMARY:Adhesive Hero: Zeroflox – Tips and Tricks for Reliable Adhesive Workflow
DESCRIPTION:Successful restorative outcomes depend on achieving a durable and predictable adhesive interface. This session will explore the science of adhesion\, focusing on key clinical factors such as substrate preparation\, solvent evaporation\, adhesive film thickness\, and light-curing strategies. Practical insights will be shared to help clinicians overcome common pitfalls and achieve consistency in adhesive delivery. Additionally\, modern applicator innovations\, including Medmix’s Zeroflox tip\, will be introduced as tools that can support reliable and reproducible bonding results in daily restorative practice.
URL:https://dentalacademyofce.com/event/adhesive-hero-zeroflox-tips-and-tricks-for-reliable-adhesive-workflow/
END:VEVENT
END:VCALENDAR